Workbook

Sheet Total Año
A2: MES | B2: 2026 Energía kWh | C2: 2027 Energía kWh | D2: 2028 Energía kWh
A3: Enero | B3: =+'2026'!B3 -> 0 | C3: =+'2027'!B3 -> 59892000 | D3: =+'2028 '!B3 -> 59892000
A4: Febrero | B4: =+'2026'!B4 -> 0 | C4: =+'2027'!B4 -> 54096000 | D4: =+'2028 '!B4 -> 56028000
A5: Marzo | B5: =+'2026'!B5 -> 0 | C5: =+'2027'!B5 -> 59892000 | D5: =+'2028 '!B5 -> 59892000
A6: Abril | B6: =+'2026'!B6 -> 0 | C6: =+'2027'!B6 -> 57960000 | D6: =+'2028 '!B6 -> 0
A7: Mayo | B7: =+'2026'!B7 -> 0 | C7: =+'2027'!B7 -> 59892000 | D7: =+'2028 '!B7 -> 0
A8: Junio | B8: =+'2026'!B8 -> 0 | C8: =+'2027'!B8 -> 57960000 | D8: =+'2028 '!B8 -> 0
A9: Julio | B9: =+'2026'!B9 -> 0 | C9: =+'2027'!B9 -> 59892000 | D9: =+'2028 '!B9 -> 0
A10: Agosto | B10: =+'2026'!B10 -> 0 | C10: =+'2027'!B10 -> 59892000 | D10: =+'2028 '!B10 -> 0
A11: Septiembre | B11: =+'2026'!B11 -> 0 | C11: =+'2027'!B11 -> 57960000 | D11: =+'2028 '!B11 -> 0
A12: Octubre | B12: =+'2026'!B12 -> 0 | C12: =+'2027'!B12 -> 59892000 | D12: =+'2028 '!B12 -> 0
A13: Noviembre | B13: =+'2026'!B13 -> 0 | C13: =+'2027'!B13 -> 57960000 | D13: =+'2028 '!B13 -> 0
A14: Diciembre | B14: =+'2026'!B14 -> 38440000 | C14: =+'2027'!B14 -> 59892000 | D14: =+'2028 '!B14 -> 0
A15: TOTAL | B15: =SUM(B3:B14) -> 38440000 | C15: =SUM(C3:C14) -> 705180000 | D15: =SUM(D3:D14) -> 175812000

Sheet 2026
A2: MES | B2: 2026 Energía kWh
A3: Enero | B3: {=+SUM(B19:Y19*31*1000)} -> 0
A4: Febrero | B4: {=+SUM(B20:Y20*28*1000)} -> 0
A5: Marzo | B5: {=+SUM(B21:Y21*31*1000)} -> 0
A6: Abril | B6: {=+SUM(B22:Y22*30*1000)} -> 0
A7: Mayo | B7: {=+SUM(B23:Y23*31*1000)} -> 0
A8: Junio | B8: {=+SUM(B24:Y24*30*1000)} -> 0
A9: Julio | B9: {=+SUM(B25:Y25*31*1000)} -> 0
A10: Agosto | B10: {=+SUM(B26:Y26*31*1000)} -> 0
A11: Septiembre | B11: {=+SUM(B27:Y27*30*1000)} -> 0
A12: Octubre | B12: {=+SUM(B28:Y28*31*1000)} -> 0
A13: Noviembre | B13: {=+SUM(B29:Y29*30*1000)} -> 0
A14: Diciembre | B14: {=+SUM(B30:Y30*31*1000)} -> 38440000
A15: TOTAL | B15: =SUM(B3:D14) -> 38440000
A17: Distribución horaria MW - año 2026
A18: MES | B18: H0 | C18: H1 | D18: H2 | E18: H3 | F18: H4 | G18: H5 | H18: H6 | I18: H7 | J18: H8 | K18: H9 | L18: H10 | M18: H11 | N18: H12 | O18: H13 | P18: H14 | Q18: H15 | R18: H16 | S18: H17 | T18: H18 | U18: H19 | V18: H20 | W18: H21 | X18: H22 | Y18: H23
A19: Enero | B19: 0 | C19: 0 | D19: 0 | E19: 0 | F19: 0 | G19: 0 | H19: 0 | I19: 0 | J19: 0 | K19: 0 | L19: 0 | M19: 0 | N19: 0 | O19: 0 | P19: 0 | Q19: 0 | R19: 0 | S19: 0 | T19: 0 | U19: 0 | V19: 0 | W19: 0 | X19: 0 | Y19: 0
A20: Febrero | B20: 0 | C20: 0 | D20: 0 | E20: 0 | F20: 0 | G20: 0 | H20: 0 | I20: 0 | J20: 0 | K20: 0 | L20: 0 | M20: 0 | N20: 0 | O20: 0 | P20: 0 | Q20: 0 | R20: 0 | S20: 0 | T20: 0 | U20: 0 | V20: 0 | W20: 0 | X20: 0 | Y20: 0
A21: Marzo | B21: 0 | C21: 0 | D21: 0 | E21: 0 | F21: 0 | G21: 0 | H21: 0 | I21: 0 | J21: 0 | K21: 0 | L21: 0 | M21: 0 | N21: 0 | O21: 0 | P21: 0 | Q21: 0 | R21: 0 | S21: 0 | T21: 0 | U21: 0 | V21: 0 | W21: 0 | X21: 0 | Y21: 0
A22: Abril | B22: 0 | C22: 0 | D22: 0 | E22: 0 | F22: 0 | G22: 0 | H22: 0 | I22: 0 | J22: 0 | K22: 0 | L22: 0 | M22: 0 | N22: 0 | O22: 0 | P22: 0 | Q22: 0 | R22: 0 | S22: 0 | T22: 0 | U22: 0 | V22: 0 | W22: 0 | X22: 0 | Y22: 0
A23: Mayo | B23: 0 | C23: 0 | D23: 0 | E23: 0 | F23: 0 | G23: 0 | H23: 0 | I23: 0 | J23: 0 | K23: 0 | L23: 0 | M23: 0 | N23: 0 | O23: 0 | P23: 0 | Q23: 0 | R23: 0 | S23: 0 | T23: 0 | U23: 0 | V23: 0 | W23: 0 | X23: 0 | Y23: 0
A24: Junio | B24: 0 | C24: 0 | D24: 0 | E24: 0 | F24: 0 | G24: 0 | H24: 0 | I24: 0 | J24: 0 | K24: 0 | L24: 0 | M24: 0 | N24: 0 | O24: 0 | P24: 0 | Q24: 0 | R24: 0 | S24: 0 | T24: 0 | U24: 0 | V24: 0 | W24: 0 | X24: 0 | Y24: 0
A25: Julio | B25: 0 | C25: 0 | D25: 0 | E25: 0 | F25: 0 | G25: 0 | H25: 0 | I25: 0 | J25: 0 | K25: 0 | L25: 0 | M25: 0 | N25: 0 | O25: 0 | P25: 0 | Q25: 0 | R25: 0 | S25: 0 | T25: 0 | U25: 0 | V25: 0 | W25: 0 | X25: 0 | Y25: 0
A26: Agosto | B26: 0 | C26: 0 | D26: 0 | E26: 0 | F26: 0 | G26: 0 | H26: 0 | I26: 0 | J26: 0 | K26: 0 | L26: 0 | M26: 0 | N26: 0 | O26: 0 | P26: 0 | Q26: 0 | R26: 0 | S26: 0 | T26: 0 | U26: 0 | V26: 0 | W26: 0 | X26: 0 | Y26: 0
A27: Septiembre | B27: 0 | C27: 0 | D27: 0 | E27: 0 | F27: 0 | G27: 0 | H27: 0 | I27: 0 | J27: 0 | K27: 0 | L27: 0 | M27: 0 | N27: 0 | O27: 0 | P27: 0 | Q27: 0 | R27: 0 | S27: 0 | T27: 0 | U27: 0 | V27: 0 | W27: 0 | X27: 0 | Y27: 0
A28: Octubre | B28: 0 | C28: 0 | D28: 0 | E28: 0 | F28: 0 | G28: 0 | H28: 0 | I28: 0 | J28: 0 | K28: 0 | L28: 0 | M28: 0 | N28: 0 | O28: 0 | P28: 0 | Q28: 0 | R28: 0 | S28: 0 | T28: 0 | U28: 0 | V28: 0 | W28: 0 | X28: 0 | Y28: 0
A29: Noviembre | B29: 0 | C29: 0 | D29: 0 | E29: 0 | F29: 0 | G29: 0 | H29: 0 | I29: 0 | J29: 0 | K29: 0 | L29: 0 | M29: 0 | N29: 0 | O29: 0 | P29: 0 | Q29: 0 | R29: 0 | S29: 0 | T29: 0 | U29: 0 | V29: 0 | W29: 0 | X29: 0 | Y29: 0
A30: Diciembre | B30: 88.571429 | C30: 88.571429 | D30: 88.571429 | E30: 88.571429 | F30: 88.571429 | G30: 88.571429 | H30: 88.571429 | I30: 0 | J30: 0 | K30: 0 | L30: 0 | M30: 0 | N30: 0 | O30: 0 | P30: 0 | Q30: 0 | R30: 0 | S30: 88.571429 | T30: 88.571429 | U30: 88.571429 | V30: 88.571429 | W30: 88.571429 | X30: 88.571429 | Y30: 88.571429

Sheet 2027
A2: MES | B2: 2027 Energía kWh
A3: Enero | B3: {=+SUM(B19:Y19*31*1000)} -> 59892000
A4: Febrero | B4: {=+SUM(B20:Y20*28*1000)} -> 54096000
A5: Marzo | B5: {=+SUM(B21:Y21*31*1000)} -> 59892000
A6: Abril | B6: {=+SUM(B22:Y22*30*1000)} -> 57960000
A7: Mayo | B7: {=+SUM(B23:Y23*31*1000)} -> 59892000
A8: Junio | B8: {=+SUM(B24:Y24*30*1000)} -> 57960000
A9: Julio | B9: {=+SUM(B25:Y25*31*1000)} -> 59892000
A10: Agosto | B10: {=+SUM(B26:Y26*31*1000)} -> 59892000
A11: Septiembre | B11: {=+SUM(B27:Y27*30*1000)} -> 57960000
A12: Octubre | B12: {=+SUM(B28:Y28*31*1000)} -> 59892000
A13: Noviembre | B13: {=+SUM(B29:Y29*30*1000)} -> 57960000
A14: Diciembre | B14: {=+SUM(B30:Y30*31*1000)} -> 59892000
A15: TOTAL | B15: =SUM(B3:D14) -> 705180000
A17: Distribución horaria MW - año 2027
A18: MES | B18: H0 | C18: H1 | D18: H2 | E18: H3 | F18: H4 | G18: H5 | H18: H6 | I18: H7 | J18: H8 | K18: H9 | L18: H10 | M18: H11 | N18: H12 | O18: H13 | P18: H14 | Q18: H15 | R18: H16 | S18: H17 | T18: H18 | U18: H19 | V18: H20 | W18: H21 | X18: H22 | Y18: H23
A19: Enero | B19: 138 | C19: 138 | D19: 138 | E19: 138 | F19: 138 | G19: 138 | H19: 138 | I19: 0 | J19: 0 | K19: 0 | L19: 0 | M19: 0 | N19: 0 | O19: 0 | P19: 0 | Q19: 0 | R19: 0 | S19: 138 | T19: 138 | U19: 138 | V19: 138 | W19: 138 | X19: 138 | Y19: 138
A20: Febrero | B20: 138 | C20: 138 | D20: 138 | E20: 138 | F20: 138 | G20: 138 | H20: 138 | I20: 0 | J20: 0 | K20: 0 | L20: 0 | M20: 0 | N20: 0 | O20: 0 | P20: 0 | Q20: 0 | R20: 0 | S20: 138 | T20: 138 | U20: 138 | V20: 138 | W20: 138 | X20: 138 | Y20: 138
A21: Marzo | B21: 138 | C21: 138 | D21: 138 | E21: 138 | F21: 138 | G21: 138 | H21: 138 | I21: 0 | J21: 0 | K21: 0 | L21: 0 | M21: 0 | N21: 0 | O21: 0 | P21: 0 | Q21: 0 | R21: 0 | S21: 138 | T21: 138 | U21: 138 | V21: 138 | W21: 138 | X21: 138 | Y21: 138
A22: Abril | B22: 138 | C22: 138 | D22: 138 | E22: 138 | F22: 138 | G22: 138 | H22: 138 | I22: 0 | J22: 0 | K22: 0 | L22: 0 | M22: 0 | N22: 0 | O22: 0 | P22: 0 | Q22: 0 | R22: 0 | S22: 138 | T22: 138 | U22: 138 | V22: 138 | W22: 138 | X22: 138 | Y22: 138
A23: Mayo | B23: 138 | C23: 138 | D23: 138 | E23: 138 | F23: 138 | G23: 138 | H23: 138 | I23: 0 | J23: 0 | K23: 0 | L23: 0 | M23: 0 | N23: 0 | O23: 0 | P23: 0 | Q23: 0 | R23: 0 | S23: 138 | T23: 138 | U23: 138 | V23: 138 | W23: 138 | X23: 138 | Y23: 138
A24: Junio | B24: 138 | C24: 138 | D24: 138 | E24: 138 | F24: 138 | G24: 138 | H24: 138 | I24: 0 | J24: 0 | K24: 0 | L24: 0 | M24: 0 | N24: 0 | O24: 0 | P24: 0 | Q24: 0 | R24: 0 | S24: 138 | T24: 138 | U24: 138 | V24: 138 | W24: 138 | X24: 138 | Y24: 138
A25: Julio | B25: 138 | C25: 138 | D25: 138 | E25: 138 | F25: 138 | G25: 138 | H25: 138 | I25: 0 | J25: 0 | K25: 0 | L25: 0 | M25: 0 | N25: 0 | O25: 0 | P25: 0 | Q25: 0 | R25: 0 | S25: 138 | T25: 138 | U25: 138 | V25: 138 | W25: 138 | X25: 138 | Y25: 138
A26: Agosto | B26: 138 | C26: 138 | D26: 138 | E26: 138 | F26: 138 | G26: 138 | H26: 138 | I26: 0 | J26: 0 | K26: 0 | L26: 0 | M26: 0 | N26: 0 | O26: 0 | P26: 0 | Q26: 0 | R26: 0 | S26: 138 | T26: 138 | U26: 138 | V26: 138 | W26: 138 | X26: 138 | Y26: 138
A27: Septiembre | B27: 138 | C27: 138 | D27: 138 | E27: 138 | F27: 138 | G27: 138 | H27: 138 | I27: 0 | J27: 0 | K27: 0 | L27: 0 | M27: 0 | N27: 0 | O27: 0 | P27: 0 | Q27: 0 | R27: 0 | S27: 138 | T27: 138 | U27: 138 | V27: 138 | W27: 138 | X27: 138 | Y27: 138
A28: Octubre | B28: 138 | C28: 138 | D28: 138 | E28: 138 | F28: 138 | G28: 138 | H28: 138 | I28: 0 | J28: 0 | K28: 0 | L28: 0 | M28: 0 | N28: 0 | O28: 0 | P28: 0 | Q28: 0 | R28: 0 | S28: 138 | T28: 138 | U28: 138 | V28: 138 | W28: 138 | X28: 138 | Y28: 138
A29: Noviembre | B29: 138 | C29: 138 | D29: 138 | E29: 138 | F29: 138 | G29: 138 | H29: 138 | I29: 0 | J29: 0 | K29: 0 | L29: 0 | M29: 0 | N29: 0 | O29: 0 | P29: 0 | Q29: 0 | R29: 0 | S29: 138 | T29: 138 | U29: 138 | V29: 138 | W29: 138 | X29: 138 | Y29: 138
A30: Diciembre | B30: 138 | C30: 138 | D30: 138 | E30: 138 | F30: 138 | G30: 138 | H30: 138 | I30: 0 | J30: 0 | K30: 0 | L30: 0 | M30: 0 | N30: 0 | O30: 0 | P30: 0 | Q30: 0 | R30: 0 | S30: 138 | T30: 138 | U30: 138 | V30: 138 | W30: 138 | X30: 138 | Y30: 138

Sheet 2028 
A2: MES | B2: 2028 Energía kWh
A3: Enero | B3: {=+SUM(B19:Y19*31*1000)} -> 59892000
A4: Febrero | B4: {=+SUM(B20:Y20*29*1000)} -> 56028000
A5: Marzo | B5: {=+SUM(B21:Y21*31*1000)} -> 59892000
A6: Abril | B6: {=+SUM(B22:Y22*30*1000)} -> 0
A7: Mayo | B7: {=+SUM(B23:Y23*31*1000)} -> 0
A8: Junio | B8: {=+SUM(B24:Y24*30*1000)} -> 0
A9: Julio | B9: {=+SUM(B25:Y25*31*1000)} -> 0
A10: Agosto | B10: {=+SUM(B26:Y26*31*1000)} -> 0
A11: Septiembre | B11: {=+SUM(B27:Y27*30*1000)} -> 0
A12: Octubre | B12: {=+SUM(B28:Y28*31*1000)} -> 0
A13: Noviembre | B13: {=+SUM(B29:Y29*30*1000)} -> 0
A14: Diciembre | B14: {=+SUM(B30:Y30*31*1000)} -> 0
A15: TOTAL | B15: =SUM(B3:D14) -> 175812000
A17: Distribución horaria MW - año 2028
A18: MES | B18: H0 | C18: H1 | D18: H2 | E18: H3 | F18: H4 | G18: H5 | H18: H6 | I18: H7 | J18: H8 | K18: H9 | L18: H10 | M18: H11 | N18: H12 | O18: H13 | P18: H14 | Q18: H15 | R18: H16 | S18: H17 | T18: H18 | U18: H19 | V18: H20 | W18: H21 | X18: H22 | Y18: H23
A19: Enero | B19: 138 | C19: 138 | D19: 138 | E19: 138 | F19: 138 | G19: 138 | H19: 138 | I19: 0 | J19: 0 | K19: 0 | L19: 0 | M19: 0 | N19: 0 | O19: 0 | P19: 0 | Q19: 0 | R19: 0 | S19: 138 | T19: 138 | U19: 138 | V19: 138 | W19: 138 | X19: 138 | Y19: 138
A20: Febrero | B20: 138 | C20: 138 | D20: 138 | E20: 138 | F20: 138 | G20: 138 | H20: 138 | I20: 0 | J20: 0 | K20: 0 | L20: 0 | M20: 0 | N20: 0 | O20: 0 | P20: 0 | Q20: 0 | R20: 0 | S20: 138 | T20: 138 | U20: 138 | V20: 138 | W20: 138 | X20: 138 | Y20: 138
A21: Marzo | B21: 138 | C21: 138 | D21: 138 | E21: 138 | F21: 138 | G21: 138 | H21: 138 | I21: 0 | J21: 0 | K21: 0 | L21: 0 | M21: 0 | N21: 0 | O21: 0 | P21: 0 | Q21: 0 | R21: 0 | S21: 138 | T21: 138 | U21: 138 | V21: 138 | W21: 138 | X21: 138 | Y21: 138
A22: Abril | B22: 0 | C22: 0 | D22: 0 | E22: 0 | F22: 0 | G22: 0 | H22: 0 | I22: 0 | J22: 0 | K22: 0 | L22: 0 | M22: 0 | N22: 0 | O22: 0 | P22: 0 | Q22: 0 | R22: 0 | S22: 0 | T22: 0 | U22: 0 | V22: 0 | W22: 0 | X22: 0 | Y22: 0
A23: Mayo | B23: 0 | C23: 0 | D23: 0 | E23: 0 | F23: 0 | G23: 0 | H23: 0 | I23: 0 | J23: 0 | K23: 0 | L23: 0 | M23: 0 | N23: 0 | O23: 0 | P23: 0 | Q23: 0 | R23: 0 | S23: 0 | T23: 0 | U23: 0 | V23: 0 | W23: 0 | X23: 0 | Y23: 0
A24: Junio | B24: 0 | C24: 0 | D24: 0 | E24: 0 | F24: 0 | G24: 0 | H24: 0 | I24: 0 | J24: 0 | K24: 0 | L24: 0 | M24: 0 | N24: 0 | O24: 0 | P24: 0 | Q24: 0 | R24: 0 | S24: 0 | T24: 0 | U24: 0 | V24: 0 | W24: 0 | X24: 0 | Y24: 0
A25: Julio | B25: 0 | C25: 0 | D25: 0 | E25: 0 | F25: 0 | G25: 0 | H25: 0 | I25: 0 | J25: 0 | K25: 0 | L25: 0 | M25: 0 | N25: 0 | O25: 0 | P25: 0 | Q25: 0 | R25: 0 | S25: 0 | T25: 0 | U25: 0 | V25: 0 | W25: 0 | X25: 0 | Y25: 0
A26: Agosto | B26: 0 | C26: 0 | D26: 0 | E26: 0 | F26: 0 | G26: 0 | H26: 0 | I26: 0 | J26: 0 | K26: 0 | L26: 0 | M26: 0 | N26: 0 | O26: 0 | P26: 0 | Q26: 0 | R26: 0 | S26: 0 | T26: 0 | U26: 0 | V26: 0 | W26: 0 | X26: 0 | Y26: 0
A27: Septiembre | B27: 0 | C27: 0 | D27: 0 | E27: 0 | F27: 0 | G27: 0 | H27: 0 | I27: 0 | J27: 0 | K27: 0 | L27: 0 | M27: 0 | N27: 0 | O27: 0 | P27: 0 | Q27: 0 | R27: 0 | S27: 0 | T27: 0 | U27: 0 | V27: 0 | W27: 0 | X27: 0 | Y27: 0
A28: Octubre | B28: 0 | C28: 0 | D28: 0 | E28: 0 | F28: 0 | G28: 0 | H28: 0 | I28: 0 | J28: 0 | K28: 0 | L28: 0 | M28: 0 | N28: 0 | O28: 0 | P28: 0 | Q28: 0 | R28: 0 | S28: 0 | T28: 0 | U28: 0 | V28: 0 | W28: 0 | X28: 0 | Y28: 0
A29: Noviembre | B29: 0 | C29: 0 | D29: 0 | E29: 0 | F29: 0 | G29: 0 | H29: 0 | I29: 0 | J29: 0 | K29: 0 | L29: 0 | M29: 0 | N29: 0 | O29: 0 | P29: 0 | Q29: 0 | R29: 0 | S29: 0 | T29: 0 | U29: 0 | V29: 0 | W29: 0 | X29: 0 | Y29: 0
A30: Diciembre | B30: 0 | C30: 0 | D30: 0 | E30: 0 | F30: 0 | G30: 0 | H30: 0 | I30: 0 | J30: 0 | K30: 0 | L30: 0 | M30: 0 | N30: 0 | O30: 0 | P30: 0 | Q30: 0 | R30: 0 | S30: 0 | T30: 0 | U30: 0 | V30: 0 | W30: 0 | X30: 0 | Y30: 0
